BEGIN:VCALENDAR
VERSION:2.0
PRODID:-//CIRQUALITY OWL PLUS - ECPv6.15.18//NONSGML v1.0//EN
CALSCALE:GREGORIAN
METHOD:PUBLISH
X-WR-CALNAME:CIRQUALITY OWL PLUS
X-ORIGINAL-URL:https://www.cirqualityowl.de
X-WR-CALDESC:Veranstaltungen für CIRQUALITY OWL PLUS
REFRESH-INTERVAL;VALUE=DURATION:PT1H
X-Robots-Tag:noindex
X-PUBLISHED-TTL:PT1H
BEGIN:VTIMEZONE
TZID:Europe/Berlin
BEGIN:DAYLIGHT
TZOFFSETFROM:+0100
TZOFFSETTO:+0200
TZNAME:CEST
DTSTART:20220327T010000
END:DAYLIGHT
BEGIN:STANDARD
TZOFFSETFROM:+0200
TZOFFSETTO:+0100
TZNAME:CET
DTSTART:20221030T010000
END:STANDARD
BEGIN:DAYLIGHT
TZOFFSETFROM:+0100
TZOFFSETTO:+0200
TZNAME:CEST
DTSTART:20230326T010000
END:DAYLIGHT
BEGIN:STANDARD
TZOFFSETFROM:+0200
TZOFFSETTO:+0100
TZNAME:CET
DTSTART:20231029T010000
END:STANDARD
BEGIN:DAYLIGHT
TZOFFSETFROM:+0100
TZOFFSETTO:+0200
TZNAME:CEST
DTSTART:20240331T010000
END:DAYLIGHT
BEGIN:STANDARD
TZOFFSETFROM:+0200
TZOFFSETTO:+0100
TZNAME:CET
DTSTART:20241027T010000
END:STANDARD
END:VTIMEZONE
BEGIN:VEVENT
DTSTART;TZID=Europe/Berlin:20230516T170000
DTEND;TZID=Europe/Berlin:20230516T180000
DTSTAMP:20260420T041236
CREATED:20230330T102858Z
LAST-MODIFIED:20230330T102858Z
UID:3275-1684256400-1684260000@www.cirqualityowl.de
SUMMARY:Zirkuläre Wertschöpfung - Ein Blick in die Praxis | Zu Gast bei der Windmöller GmbH
DESCRIPTION:Die Diskussionen und Forderungen nach maximaler Ökoeffizienz werden lauter\, die politischen Vorgaben hinsichtlich Klimaneutralität oder Kreislaufwirtschaft konsequenter.
URL:https://www.cirqualityowl.de/event/zirkulaere-wertschoepfung-ein-blick-in-die-praxis-zu-gast-bei-der-windmoeller-gmbh/
LOCATION:Windmöller GmbH\, Nord-West-Ring 13\, Augustdorf\, 32832
END:VEVENT
END:VCALENDAR