BEGIN:VCALENDAR
VERSION:2.0
PRODID:-//CIRQUALITY OWL PLUS - ECPv6.15.18//NONSGML v1.0//EN
CALSCALE:GREGORIAN
METHOD:PUBLISH
X-WR-CALNAME:CIRQUALITY OWL PLUS
X-ORIGINAL-URL:https://www.cirqualityowl.de
X-WR-CALDESC:Veranstaltungen für CIRQUALITY OWL PLUS
REFRESH-INTERVAL;VALUE=DURATION:PT1H
X-Robots-Tag:noindex
X-PUBLISHED-TTL:PT1H
BEGIN:VTIMEZONE
TZID:Europe/Berlin
BEGIN:DAYLIGHT
TZOFFSETFROM:+0100
TZOFFSETTO:+0200
TZNAME:CEST
DTSTART:20230326T010000
END:DAYLIGHT
BEGIN:STANDARD
TZOFFSETFROM:+0200
TZOFFSETTO:+0100
TZNAME:CET
DTSTART:20231029T010000
END:STANDARD
BEGIN:DAYLIGHT
TZOFFSETFROM:+0100
TZOFFSETTO:+0200
TZNAME:CEST
DTSTART:20240331T010000
END:DAYLIGHT
BEGIN:STANDARD
TZOFFSETFROM:+0200
TZOFFSETTO:+0100
TZNAME:CET
DTSTART:20241027T010000
END:STANDARD
BEGIN:DAYLIGHT
TZOFFSETFROM:+0100
TZOFFSETTO:+0200
TZNAME:CEST
DTSTART:20250330T010000
END:DAYLIGHT
BEGIN:STANDARD
TZOFFSETFROM:+0200
TZOFFSETTO:+0100
TZNAME:CET
DTSTART:20251026T010000
END:STANDARD
END:VTIMEZONE
BEGIN:VEVENT
DTSTART;TZID=Europe/Berlin:20240905T160000
DTEND;TZID=Europe/Berlin:20240905T173000
DTSTAMP:20260420T024709
CREATED:20240805T125728Z
LAST-MODIFIED:20240805T125728Z
UID:3884-1725552000-1725557400@www.cirqualityowl.de
SUMMARY:Von der Absicht zur Tat für eine nachhaltige Zukunft
DESCRIPTION:Umwelt- und Klimaschutzprojekte erfordern Veränderungen im Verhalten von Individuen und Organisationen. Die Umweltpsychologie legt den Fokus auf die beteiligten Menschen\, welche Veränderungen initiieren\, ermöglichen und befördern können. Im Vortrag wird thematisiert\, warum der ökologische Handabdruck ein passendes Konzept ist\, um Menschen zu befähigen und ermutigen\, Strukturen zu verändern\, um nachhaltiges Verhalten zu erleichtern.
URL:https://www.cirqualityowl.de/event/von-der-absicht-zur-tat-fuer-eine-nachhaltige-zukunft/
ATTACH;FMTTYPE=image/jpeg:https://www.cirqualityowl.de/wp-content/uploads/2024/08/freepikumweltschutz-scaled-1.jpg
END:VEVENT
END:VCALENDAR