BEGIN:VCALENDAR
VERSION:2.0
PRODID:-//CIRQUALITY OWL PLUS - ECPv6.15.18//NONSGML v1.0//EN
CALSCALE:GREGORIAN
METHOD:PUBLISH
X-WR-CALNAME:CIRQUALITY OWL PLUS
X-ORIGINAL-URL:https://www.cirqualityowl.de
X-WR-CALDESC:Veranstaltungen für CIRQUALITY OWL PLUS
REFRESH-INTERVAL;VALUE=DURATION:PT1H
X-Robots-Tag:noindex
X-PUBLISHED-TTL:PT1H
BEGIN:VTIMEZONE
TZID:Europe/Berlin
BEGIN:DAYLIGHT
TZOFFSETFROM:+0100
TZOFFSETTO:+0200
TZNAME:CEST
DTSTART:20190331T010000
END:DAYLIGHT
BEGIN:STANDARD
TZOFFSETFROM:+0200
TZOFFSETTO:+0100
TZNAME:CET
DTSTART:20191027T010000
END:STANDARD
BEGIN:DAYLIGHT
TZOFFSETFROM:+0100
TZOFFSETTO:+0200
TZNAME:CEST
DTSTART:20200329T010000
END:DAYLIGHT
BEGIN:STANDARD
TZOFFSETFROM:+0200
TZOFFSETTO:+0100
TZNAME:CET
DTSTART:20201025T010000
END:STANDARD
BEGIN:DAYLIGHT
TZOFFSETFROM:+0100
TZOFFSETTO:+0200
TZNAME:CEST
DTSTART:20210328T010000
END:DAYLIGHT
BEGIN:STANDARD
TZOFFSETFROM:+0200
TZOFFSETTO:+0100
TZNAME:CET
DTSTART:20211031T010000
END:STANDARD
END:VTIMEZONE
BEGIN:VEVENT
DTSTART;TZID=Europe/Berlin:20200922T090000
DTEND;TZID=Europe/Berlin:20200922T123000
DTSTAMP:20260422T154854
CREATED:20200715T092820Z
LAST-MODIFIED:20200715T092820Z
UID:884-1600765200-1600777800@www.cirqualityowl.de
SUMMARY:„Verbindungstechnik Kleben und Nachhaltigkeit – kein Widerspruch!“
DESCRIPTION:Zu diesem spannenden Thema möchten wir Sie zum diesjährigen Bielefelder Tag der Materialforschung am\n22. September 2020 von 9:00 Uhr bis 12:30 Uhr einladen. \nMit fünf hochkarätigen Beiträgen aus Wissenschaft und Industrie\, sowie einer anschließenden Podiumsdiskussion möchten wir Sie über Grundlagen\, Anwendungen und neueste Entwicklungen informieren und mit Ihnen diskutieren. Wie auch in den Jahren zuvor\, möchten wir Ihnen im Rahmen der Verleihung des Nachwuchspreises ein junges Talent aus der Materialforschung vorstellen. Corona-bedingt wird die Veranstaltung dieses Jahr als Online-Konferenz stattfinden. Unser bewährtes Präsenz-Format\, verbunden mit einer Einladung zu Kaffee\, Kuchen und einem Mittagsimbiss werden wir hoffentlich im kommenden Jahr wieder anbieten können. \nPROGRAMM: Bielefelder Tag der Materialforschung\, 22.09.2020 \nVerbindungstechnik Kleben und Nachhaltigkeit – kein Widerspruch! \n09:00 – 09:15      Begrüßung (Prof. Dr. Christian Schröder\, Institutsleitung BIfAM; Prof. Dr. Sonja Schöning und Prof. Dr. Andreas Hütten\, Projektleitung CiMT) \n09:15 – 09:40      Prof. Dr. Dario Anselmetti (Universität Bielefeld):\n              „How things stick – Molekulare Grundlagen und Anwendungen der Adhäsion“ \n09:40 – 10:05      Prof. Dr. Anant Patel (Fachhochschule Bielefeld):\n               “Biobasierte Klebstoffe” \n10:05 – 10:20     Verleihung des Nachwuchspreises incl. Kurzvortrag des Preisträgers / der Preisträgerin \n10:20 – 10:35     Pause \n10:35 – 11:00     Dr. Hartmut Henneken (Jowat SE):\n               „Die Klebstoffindustrie aus Sicht eines Herstellers: Von der Idee zum fertigen Produkt“ \n11:00 – 11:25     Sven Krumbiegel (Miele & Cie. KG):\n               „DIN 2304 – DIE Norm für Klebeprozesse“ \n11:25 – 11:40     Pause \n11:40 – 12:05     Dipl.-Ing. Stephan Schmidt (Miele & Cie. KG):\n               „Realisierung wiederverwendbarer Sensoren zur optischen Füllstandsdetektion mittels Silicon-Haftgelen“ \n12:05 – 12:30     Podiumsdiskussion mit allen Vortragenden \n12:30                   Verabschiedung\, Ende der Veranstaltung \nCorona-bedingt wird die Veranstaltung dieses Jahr als Online-Konferenz stattfinden. Für eine Teilnahme melden Sie sich einfach per Mail (julia.pieper@fh-bielefeld.de) oder über das Anmeldeformular auf der Homepage (www.fh-bielefeld.de/bifam/anmeldung) bis spätestens 18.09.2020 an. Sie erhalten dann kurz vor der Veranstaltung die Zugangsdaten für Zoom. Alle wichtigen und aktuellen Informationen finden Sie auch jederzeit auf unserer Homepage www.fh-bielefeld.de/bifam/btdm. \nWir freuen uns auf Ihre Teilnahme!  \nMit den besten Grüßen aus dem „Centrum für interdisziplinäre Materialforschung und Technologieentwicklung“\, \nProf. Dr. Sonja Schöning (FH Bielefeld\, Projektleitung CiMT)\nProf. Dr. Andreas Hütten (Uni Bielefeld\, Projektleitung CiMT)\nProf. Dr. Christian Schröder (FH Bielefeld\, Leitung BIfAM)
URL:https://www.cirqualityowl.de/event/verbindungstechnik-kleben-und-nachhaltigkeit-kein-widerspruch/
LOCATION:Online Veranstaltung
END:VEVENT
END:VCALENDAR