BEGIN:VCALENDAR
VERSION:2.0
PRODID:-//CIRQUALITY OWL PLUS - ECPv6.15.18//NONSGML v1.0//EN
CALSCALE:GREGORIAN
METHOD:PUBLISH
X-WR-CALNAME:CIRQUALITY OWL PLUS
X-ORIGINAL-URL:https://www.cirqualityowl.de
X-WR-CALDESC:Veranstaltungen für CIRQUALITY OWL PLUS
REFRESH-INTERVAL;VALUE=DURATION:PT1H
X-Robots-Tag:noindex
X-PUBLISHED-TTL:PT1H
BEGIN:VTIMEZONE
TZID:Europe/Berlin
BEGIN:DAYLIGHT
TZOFFSETFROM:+0100
TZOFFSETTO:+0200
TZNAME:CEST
DTSTART:20200329T010000
END:DAYLIGHT
BEGIN:STANDARD
TZOFFSETFROM:+0200
TZOFFSETTO:+0100
TZNAME:CET
DTSTART:20201025T010000
END:STANDARD
BEGIN:DAYLIGHT
TZOFFSETFROM:+0100
TZOFFSETTO:+0200
TZNAME:CEST
DTSTART:20210328T010000
END:DAYLIGHT
BEGIN:STANDARD
TZOFFSETFROM:+0200
TZOFFSETTO:+0100
TZNAME:CET
DTSTART:20211031T010000
END:STANDARD
BEGIN:DAYLIGHT
TZOFFSETFROM:+0100
TZOFFSETTO:+0200
TZNAME:CEST
DTSTART:20220327T010000
END:DAYLIGHT
BEGIN:STANDARD
TZOFFSETFROM:+0200
TZOFFSETTO:+0100
TZNAME:CET
DTSTART:20221030T010000
END:STANDARD
END:VTIMEZONE
BEGIN:VEVENT
DTSTART;TZID=Europe/Berlin:20210115T130000
DTEND;TZID=Europe/Berlin:20210115T143000
DTSTAMP:20260422T143507
CREATED:20201202T103558Z
LAST-MODIFIED:20201202T103558Z
UID:1307-1610715600-1610721000@www.cirqualityowl.de
SUMMARY:Veranstaltungsreihe: Wir nutzen Alternativen und sind erfolgreich – Frauen initiieren und setzen Geschäftsmodelle für eine Circular Economy um! Duschen für’s Urban Gardening – Mobiles Grauwasser-Recycling
DESCRIPTION:https://www.vdi.de/veranstaltungen/detail/shower-tower-grauwasser-als-pflanzennahrung
URL:https://www.cirqualityowl.de/event/veranstaltungsreihe-wir-nutzen-alternativen-und-sind-erfolgreich-frauen-initiieren-und-setzen-geschaeftsmodelle-fuer-eine-circular-economy-um-duschen-fuers-urban-gardening/
LOCATION:Online-Veranstaltung
ATTACH;FMTTYPE=image/jpeg:https://www.cirqualityowl.de/wp-content/uploads/2020/11/20200707_Shower-Tower61_GritBuergow-scaled-1.jpg
END:VEVENT
END:VCALENDAR