BEGIN:VCALENDAR
VERSION:2.0
PRODID:-//CIRQUALITY OWL PLUS - ECPv6.15.18//NONSGML v1.0//EN
CALSCALE:GREGORIAN
METHOD:PUBLISH
X-WR-CALNAME:CIRQUALITY OWL PLUS
X-ORIGINAL-URL:https://www.cirqualityowl.de
X-WR-CALDESC:Veranstaltungen für CIRQUALITY OWL PLUS
REFRESH-INTERVAL;VALUE=DURATION:PT1H
X-Robots-Tag:noindex
X-PUBLISHED-TTL:PT1H
BEGIN:VTIMEZONE
TZID:Europe/Berlin
BEGIN:DAYLIGHT
TZOFFSETFROM:+0100
TZOFFSETTO:+0200
TZNAME:CEST
DTSTART:20230326T010000
END:DAYLIGHT
BEGIN:STANDARD
TZOFFSETFROM:+0200
TZOFFSETTO:+0100
TZNAME:CET
DTSTART:20231029T010000
END:STANDARD
BEGIN:DAYLIGHT
TZOFFSETFROM:+0100
TZOFFSETTO:+0200
TZNAME:CEST
DTSTART:20240331T010000
END:DAYLIGHT
BEGIN:STANDARD
TZOFFSETFROM:+0200
TZOFFSETTO:+0100
TZNAME:CET
DTSTART:20241027T010000
END:STANDARD
BEGIN:DAYLIGHT
TZOFFSETFROM:+0100
TZOFFSETTO:+0200
TZNAME:CEST
DTSTART:20250330T010000
END:DAYLIGHT
BEGIN:STANDARD
TZOFFSETFROM:+0200
TZOFFSETTO:+0100
TZNAME:CET
DTSTART:20251026T010000
END:STANDARD
END:VTIMEZONE
BEGIN:VEVENT
DTSTART;TZID=Europe/Berlin:20241105T130000
DTEND;TZID=Europe/Berlin:20241105T170000
DTSTAMP:20260420T011606
CREATED:20240805T130637Z
LAST-MODIFIED:20240805T130637Z
UID:3889-1730811600-1730826000@www.cirqualityowl.de
SUMMARY:Starten mit zirkulärer Wertschöpfung | Schwerpunkt: Geschäftsmodelle und Produktdesignstrategien | Unternehmens-Forum
DESCRIPTION:Wenn Sie die wichtigsten Denkmodelle\, Methoden und Beispiele des zirkulären Wirtschaftens einfach einmal ausprobieren möchten\, dann begrüßen wir Sie gern zu unseren Starter-Workshops. Beim Workshop am Dienstag\, den 5.11.2024 geht es um zirkuläre Produktdesignstrategien und Geschäftsmodelle der Circular Economy: Wie lässt sich die Nutzungsdauer eines Produktes verlängern? Wie müssen Geschäftsmodelle oder Produkte entsprechend angepasst werden? Und welche Rolle spielt der Kunde bzw. Vertriebsweg dabei?
URL:https://www.cirqualityowl.de/event/starten-mit-zirkulaerer-wertschoepfung-schwerpunkt-geschaeftsmodelle-und-produktdesignstrategien-unternehmens-forum/
ATTACH;FMTTYPE=image/png:https://www.cirqualityowl.de/wp-content/uploads/2024/08/Rs1.png
END:VEVENT
END:VCALENDAR