BEGIN:VCALENDAR
VERSION:2.0
PRODID:-//CIRQUALITY OWL PLUS - ECPv6.15.18//NONSGML v1.0//EN
CALSCALE:GREGORIAN
METHOD:PUBLISH
X-WR-CALNAME:CIRQUALITY OWL PLUS
X-ORIGINAL-URL:https://www.cirqualityowl.de
X-WR-CALDESC:Veranstaltungen für CIRQUALITY OWL PLUS
REFRESH-INTERVAL;VALUE=DURATION:PT1H
X-Robots-Tag:noindex
X-PUBLISHED-TTL:PT1H
BEGIN:VTIMEZONE
TZID:Europe/Berlin
BEGIN:DAYLIGHT
TZOFFSETFROM:+0100
TZOFFSETTO:+0200
TZNAME:CEST
DTSTART:20210328T010000
END:DAYLIGHT
BEGIN:STANDARD
TZOFFSETFROM:+0200
TZOFFSETTO:+0100
TZNAME:CET
DTSTART:20211031T010000
END:STANDARD
BEGIN:DAYLIGHT
TZOFFSETFROM:+0100
TZOFFSETTO:+0200
TZNAME:CEST
DTSTART:20220327T010000
END:DAYLIGHT
BEGIN:STANDARD
TZOFFSETFROM:+0200
TZOFFSETTO:+0100
TZNAME:CET
DTSTART:20221030T010000
END:STANDARD
BEGIN:DAYLIGHT
TZOFFSETFROM:+0100
TZOFFSETTO:+0200
TZNAME:CEST
DTSTART:20230326T010000
END:DAYLIGHT
BEGIN:STANDARD
TZOFFSETFROM:+0200
TZOFFSETTO:+0100
TZNAME:CET
DTSTART:20231029T010000
END:STANDARD
END:VTIMEZONE
BEGIN:VEVENT
DTSTART;TZID=Europe/Berlin:20221102T150000
DTEND;TZID=Europe/Berlin:20221102T170000
DTSTAMP:20260420T024115
CREATED:20220922T123741Z
LAST-MODIFIED:20220922T123741Z
UID:3155-1667401200-1667408400@www.cirqualityowl.de
SUMMARY:Praxisworkshop: Wie können zukünftige Anforderungen in puncto Nachhaltigkeit und Circular Economy durch digitale Lösungen unterstützt werden?
DESCRIPTION:
URL:https://www.cirqualityowl.de/event/praxisworkshop-wie-koennen-zukuenftige-anforderungen-in-puncto-nachhaltigkeit-und-circular-economy-durch-digitale-loesungen-unterstuetzt-werden/
LOCATION:IHK Ostwestfalen zu Bielefeld\, Elsa-Brändström-Str. 1 - 3\, Bielefeld\, 33602
ORGANIZER;CN="InnoZent OWL e.V.":MAILTO:info@innozentowl.de
END:VEVENT
END:VCALENDAR