BEGIN:VCALENDAR
VERSION:2.0
PRODID:-//CIRQUALITY OWL PLUS - ECPv6.15.18//NONSGML v1.0//EN
CALSCALE:GREGORIAN
METHOD:PUBLISH
X-WR-CALNAME:CIRQUALITY OWL PLUS
X-ORIGINAL-URL:https://www.cirqualityowl.de
X-WR-CALDESC:Veranstaltungen für CIRQUALITY OWL PLUS
REFRESH-INTERVAL;VALUE=DURATION:PT1H
X-Robots-Tag:noindex
X-PUBLISHED-TTL:PT1H
BEGIN:VTIMEZONE
TZID:Europe/Berlin
BEGIN:DAYLIGHT
TZOFFSETFROM:+0100
TZOFFSETTO:+0200
TZNAME:CEST
DTSTART:20210328T010000
END:DAYLIGHT
BEGIN:STANDARD
TZOFFSETFROM:+0200
TZOFFSETTO:+0100
TZNAME:CET
DTSTART:20211031T010000
END:STANDARD
BEGIN:DAYLIGHT
TZOFFSETFROM:+0100
TZOFFSETTO:+0200
TZNAME:CEST
DTSTART:20220327T010000
END:DAYLIGHT
BEGIN:STANDARD
TZOFFSETFROM:+0200
TZOFFSETTO:+0100
TZNAME:CET
DTSTART:20221030T010000
END:STANDARD
BEGIN:DAYLIGHT
TZOFFSETFROM:+0100
TZOFFSETTO:+0200
TZNAME:CEST
DTSTART:20230326T010000
END:DAYLIGHT
BEGIN:STANDARD
TZOFFSETFROM:+0200
TZOFFSETTO:+0100
TZNAME:CET
DTSTART:20231029T010000
END:STANDARD
END:VTIMEZONE
BEGIN:VEVENT
DTSTART;TZID=Europe/Berlin:20220331T140000
DTEND;TZID=Europe/Berlin:20220331T170000
DTSTAMP:20260420T054117
CREATED:20220224T144024Z
LAST-MODIFIED:20220224T144024Z
UID:2530-1648735200-1648746000@www.cirqualityowl.de
SUMMARY:Praxisworkshop: Wie können IT-Lösungen Circular Economy und Nachhaltigkeitsansätze unterstützen?
DESCRIPTION:weitere Informationen und Anmeldung
URL:https://www.cirqualityowl.de/event/praxisworkshop-wie-koennen-it-loesungen-circular-economy-und-nachhaltigkeitsansaetze-unterstuetzen/
LOCATION:Online-Veranstaltung
ATTACH;FMTTYPE=image/jpeg:https://www.cirqualityowl.de/wp-content/uploads/2022/02/pexels-tima-miroshnichenko-5380642.jpg
END:VEVENT
END:VCALENDAR