BEGIN:VCALENDAR
VERSION:2.0
PRODID:-//CIRQUALITY OWL PLUS - ECPv6.15.18//NONSGML v1.0//EN
CALSCALE:GREGORIAN
METHOD:PUBLISH
X-WR-CALNAME:CIRQUALITY OWL PLUS
X-ORIGINAL-URL:https://www.cirqualityowl.de
X-WR-CALDESC:Veranstaltungen für CIRQUALITY OWL PLUS
REFRESH-INTERVAL;VALUE=DURATION:PT1H
X-Robots-Tag:noindex
X-PUBLISHED-TTL:PT1H
BEGIN:VTIMEZONE
TZID:Europe/Berlin
BEGIN:DAYLIGHT
TZOFFSETFROM:+0100
TZOFFSETTO:+0200
TZNAME:CEST
DTSTART:20210328T010000
END:DAYLIGHT
BEGIN:STANDARD
TZOFFSETFROM:+0200
TZOFFSETTO:+0100
TZNAME:CET
DTSTART:20211031T010000
END:STANDARD
BEGIN:DAYLIGHT
TZOFFSETFROM:+0100
TZOFFSETTO:+0200
TZNAME:CEST
DTSTART:20220327T010000
END:DAYLIGHT
BEGIN:STANDARD
TZOFFSETFROM:+0200
TZOFFSETTO:+0100
TZNAME:CET
DTSTART:20221030T010000
END:STANDARD
BEGIN:DAYLIGHT
TZOFFSETFROM:+0100
TZOFFSETTO:+0200
TZNAME:CEST
DTSTART:20230326T010000
END:DAYLIGHT
BEGIN:STANDARD
TZOFFSETFROM:+0200
TZOFFSETTO:+0100
TZNAME:CET
DTSTART:20231029T010000
END:STANDARD
END:VTIMEZONE
BEGIN:VEVENT
DTSTART;TZID=Europe/Berlin:20220503T160000
DTEND;TZID=Europe/Berlin:20220503T173000
DTSTAMP:20260420T053546
CREATED:20220328T132334Z
LAST-MODIFIED:20220328T132334Z
UID:2546-1651593600-1651599000@www.cirqualityowl.de
SUMMARY:Ist das ein Wertstoff oder kann das weg? Der Einsatz künstlicher Intelligenz in der zirkulären Wertschöpfung: KI-Automation und Praxisbeispiele.
DESCRIPTION:weitere Informationen und Anmeldung
URL:https://www.cirqualityowl.de/event/ist-das-ein-wertstoff-oder-kann-das-weg-der-einsatz-kuenstlicher-intelligenz-in-der-zirkulaeren-wertschoepfung-ki-automation-und-praxisbeispiele/
LOCATION:Online-Veranstaltung
END:VEVENT
END:VCALENDAR