BEGIN:VCALENDAR
VERSION:2.0
PRODID:-//CIRQUALITY OWL PLUS - ECPv6.15.18//NONSGML v1.0//EN
CALSCALE:GREGORIAN
METHOD:PUBLISH
X-WR-CALNAME:CIRQUALITY OWL PLUS
X-ORIGINAL-URL:https://www.cirqualityowl.de
X-WR-CALDESC:Veranstaltungen für CIRQUALITY OWL PLUS
REFRESH-INTERVAL;VALUE=DURATION:PT1H
X-Robots-Tag:noindex
X-PUBLISHED-TTL:PT1H
BEGIN:VTIMEZONE
TZID:Europe/Berlin
BEGIN:DAYLIGHT
TZOFFSETFROM:+0100
TZOFFSETTO:+0200
TZNAME:CEST
DTSTART:20230326T010000
END:DAYLIGHT
BEGIN:STANDARD
TZOFFSETFROM:+0200
TZOFFSETTO:+0100
TZNAME:CET
DTSTART:20231029T010000
END:STANDARD
BEGIN:DAYLIGHT
TZOFFSETFROM:+0100
TZOFFSETTO:+0200
TZNAME:CEST
DTSTART:20240331T010000
END:DAYLIGHT
BEGIN:STANDARD
TZOFFSETFROM:+0200
TZOFFSETTO:+0100
TZNAME:CET
DTSTART:20241027T010000
END:STANDARD
BEGIN:DAYLIGHT
TZOFFSETFROM:+0100
TZOFFSETTO:+0200
TZNAME:CEST
DTSTART:20250330T010000
END:DAYLIGHT
BEGIN:STANDARD
TZOFFSETFROM:+0200
TZOFFSETTO:+0100
TZNAME:CET
DTSTART:20251026T010000
END:STANDARD
END:VTIMEZONE
BEGIN:VEVENT
DTSTART;TZID=Europe/Berlin:20241107T170000
DTEND;TZID=Europe/Berlin:20241107T193000
DTSTAMP:20260420T012758
CREATED:20240927T075604Z
LAST-MODIFIED:20240927T075604Z
UID:3981-1730998800-1731007800@www.cirqualityowl.de
SUMMARY:Fachforum: Nachhaltigkeit in der Gesundheitswirtschaft – Kreislaufwirtschaft am Beispiel Pflegebetten
DESCRIPTION:Fünf Prozent des Rohstoffverbrauchs in Deutschland entfällt auf die Gesundheitswirtschaft – ein guter Grund mehr\, Ernst zu machen bei den Bemühungen zur Verkleinerung des ökologischen Fußabdrucks in der Gesundheitsbranche.
URL:https://www.cirqualityowl.de/event/fachforum-nachhaltigkeit-in-der-gesundheitswirtschaft-kreislaufwirtschaft-am-beispiel-pflegebetten/
LOCATION:Hermann Bock GmbH\, Nickelstr. 12\, Verl\, 33415
ATTACH;FMTTYPE=image/png:https://www.cirqualityowl.de/wp-content/uploads/2024/09/CQZIG-Veranstaltung-Canva.png
END:VEVENT
END:VCALENDAR