BEGIN:VCALENDAR
VERSION:2.0
PRODID:-//CIRQUALITY OWL PLUS - ECPv6.15.18//NONSGML v1.0//EN
CALSCALE:GREGORIAN
METHOD:PUBLISH
X-WR-CALNAME:CIRQUALITY OWL PLUS
X-ORIGINAL-URL:https://www.cirqualityowl.de
X-WR-CALDESC:Veranstaltungen für CIRQUALITY OWL PLUS
REFRESH-INTERVAL;VALUE=DURATION:PT1H
X-Robots-Tag:noindex
X-PUBLISHED-TTL:PT1H
BEGIN:VTIMEZONE
TZID:Europe/Berlin
BEGIN:DAYLIGHT
TZOFFSETFROM:+0100
TZOFFSETTO:+0200
TZNAME:CEST
DTSTART:20230326T010000
END:DAYLIGHT
BEGIN:STANDARD
TZOFFSETFROM:+0200
TZOFFSETTO:+0100
TZNAME:CET
DTSTART:20231029T010000
END:STANDARD
BEGIN:DAYLIGHT
TZOFFSETFROM:+0100
TZOFFSETTO:+0200
TZNAME:CEST
DTSTART:20240331T010000
END:DAYLIGHT
BEGIN:STANDARD
TZOFFSETFROM:+0200
TZOFFSETTO:+0100
TZNAME:CET
DTSTART:20241027T010000
END:STANDARD
BEGIN:DAYLIGHT
TZOFFSETFROM:+0100
TZOFFSETTO:+0200
TZNAME:CEST
DTSTART:20250330T010000
END:DAYLIGHT
BEGIN:STANDARD
TZOFFSETFROM:+0200
TZOFFSETTO:+0100
TZNAME:CET
DTSTART:20251026T010000
END:STANDARD
END:VTIMEZONE
BEGIN:VEVENT
DTSTART;TZID=Europe/Berlin:20240917T150000
DTEND;TZID=Europe/Berlin:20240917T190000
DTSTAMP:20260420T023941
CREATED:20240805T125033Z
LAST-MODIFIED:20240805T125033Z
UID:3880-1726585200-1726599600@www.cirqualityowl.de
SUMMARY:Digitalisierung trifft Nachhaltigkeit - Windenergie weitergedacht
DESCRIPTION:Wir freuen uns\, Sie zur exklusiven Veranstaltung bei unserem Gastgeber windCORES einzuladen: „Digitalisierung trifft Nachhaltigkeit – Windenergie weitergedacht“. Lassen Sie uns gemeinsam in die Zukunft der Windenergie eintauchen und spannende Einblicke in nachhaltige Businesskonzepte sowie aktuelle Forschungsprojekte gewinnen. Besonderes Highlight ist die Besichtigung eines Rechenzentrums in einer Windenergieanlage.
URL:https://www.cirqualityowl.de/event/digitalisierung-trifft-nachhaltigkeit-windenergie-weitergedacht/
ATTACH;FMTTYPE=image/jpeg:https://www.cirqualityowl.de/wp-content/uploads/2024/08/Banner-wC_1080x1080_b.jpg
END:VEVENT
END:VCALENDAR