BEGIN:VCALENDAR
VERSION:2.0
PRODID:-//CIRQUALITY OWL PLUS - ECPv6.15.18//NONSGML v1.0//EN
CALSCALE:GREGORIAN
METHOD:PUBLISH
X-WR-CALNAME:CIRQUALITY OWL PLUS
X-ORIGINAL-URL:https://www.cirqualityowl.de
X-WR-CALDESC:Veranstaltungen für CIRQUALITY OWL PLUS
REFRESH-INTERVAL;VALUE=DURATION:PT1H
X-Robots-Tag:noindex
X-PUBLISHED-TTL:PT1H
BEGIN:VTIMEZONE
TZID:Europe/Berlin
BEGIN:DAYLIGHT
TZOFFSETFROM:+0100
TZOFFSETTO:+0200
TZNAME:CEST
DTSTART:20230326T010000
END:DAYLIGHT
BEGIN:STANDARD
TZOFFSETFROM:+0200
TZOFFSETTO:+0100
TZNAME:CET
DTSTART:20231029T010000
END:STANDARD
BEGIN:DAYLIGHT
TZOFFSETFROM:+0100
TZOFFSETTO:+0200
TZNAME:CEST
DTSTART:20240331T010000
END:DAYLIGHT
BEGIN:STANDARD
TZOFFSETFROM:+0200
TZOFFSETTO:+0100
TZNAME:CET
DTSTART:20241027T010000
END:STANDARD
BEGIN:DAYLIGHT
TZOFFSETFROM:+0100
TZOFFSETTO:+0200
TZNAME:CEST
DTSTART:20250330T010000
END:DAYLIGHT
BEGIN:STANDARD
TZOFFSETFROM:+0200
TZOFFSETTO:+0100
TZNAME:CET
DTSTART:20251026T010000
END:STANDARD
END:VTIMEZONE
BEGIN:VEVENT
DTSTART;TZID=Europe/Berlin:20240925T123000
DTEND;TZID=Europe/Berlin:20240925T190000
DTSTAMP:20260420T011300
CREATED:20240813T074440Z
LAST-MODIFIED:20240813T074440Z
UID:3914-1727267400-1727290800@www.cirqualityowl.de
SUMMARY:CirQualityOWL plus Partner-Treffen 2024
DESCRIPTION:Wir laden Sie als Expertinnen und Experten ein\, Ihr Know-How miteinander zu teilen. Denn Sie als Akteur*in aus Wirtschaft\, Kommune\, Bildung und Forschung\, Kultur und Politik bilden die Basis für die Weiterentwicklung einer Circular Economy in Ostwestfalen-Lippe. In partnerschaftlicher Atmosphäre diskutieren wir zirkuläre Strategien und praktische Lösungen. \nMelden Sie sich jetzt an!
URL:https://www.cirqualityowl.de/event/cirqualityowl-plus-partner-treffen-2024/
ATTACH;FMTTYPE=image/png:https://www.cirqualityowl.de/wp-content/uploads/2024/08/CQ-Titelbild-Praesi.png
END:VEVENT
END:VCALENDAR