BEGIN:VCALENDAR
VERSION:2.0
PRODID:-//CIRQUALITY OWL PLUS - ECPv6.15.18//NONSGML v1.0//EN
CALSCALE:GREGORIAN
METHOD:PUBLISH
X-WR-CALNAME:CIRQUALITY OWL PLUS
X-ORIGINAL-URL:https://www.cirqualityowl.de
X-WR-CALDESC:Veranstaltungen für CIRQUALITY OWL PLUS
REFRESH-INTERVAL;VALUE=DURATION:PT1H
X-Robots-Tag:noindex
X-PUBLISHED-TTL:PT1H
BEGIN:VTIMEZONE
TZID:Europe/Berlin
BEGIN:DAYLIGHT
TZOFFSETFROM:+0100
TZOFFSETTO:+0200
TZNAME:CEST
DTSTART:20240331T010000
END:DAYLIGHT
BEGIN:STANDARD
TZOFFSETFROM:+0200
TZOFFSETTO:+0100
TZNAME:CET
DTSTART:20241027T010000
END:STANDARD
BEGIN:DAYLIGHT
TZOFFSETFROM:+0100
TZOFFSETTO:+0200
TZNAME:CEST
DTSTART:20250330T010000
END:DAYLIGHT
BEGIN:STANDARD
TZOFFSETFROM:+0200
TZOFFSETTO:+0100
TZNAME:CET
DTSTART:20251026T010000
END:STANDARD
BEGIN:DAYLIGHT
TZOFFSETFROM:+0100
TZOFFSETTO:+0200
TZNAME:CEST
DTSTART:20260329T010000
END:DAYLIGHT
BEGIN:STANDARD
TZOFFSETFROM:+0200
TZOFFSETTO:+0100
TZNAME:CET
DTSTART:20261025T010000
END:STANDARD
END:VTIMEZONE
BEGIN:VEVENT
DTSTART;TZID=Europe/Berlin:20250910T140000
DTEND;TZID=Europe/Berlin:20250910T150000
DTSTAMP:20260419T214145
CREATED:20250804T113311Z
LAST-MODIFIED:20250804T114423Z
UID:6173-1757512800-1757516400@www.cirqualityowl.de
SUMMARY:ANREIZE FÜR DIE BIOTONNE - Wege zur störstofffreien Biotonne Teil 3
DESCRIPTION:
URL:https://www.cirqualityowl.de/event/anreize-fuer-die-biotonne-wege-zur-stoerstofffreien-biotonne-teil-3-digital/
LOCATION:digital
ATTACH;FMTTYPE=image/png:https://www.cirqualityowl.de/wp-content/uploads/2024/09/CQOWL-plus_Icon-AP5-grau-4_3-Beitraege.png
END:VEVENT
END:VCALENDAR