BEGIN:VCALENDAR
VERSION:2.0
PRODID:-//CIRQUALITY OWL PLUS - ECPv6.15.18//NONSGML v1.0//EN
CALSCALE:GREGORIAN
METHOD:PUBLISH
X-WR-CALNAME:CIRQUALITY OWL PLUS
X-ORIGINAL-URL:https://www.cirqualityowl.de
X-WR-CALDESC:Veranstaltungen für CIRQUALITY OWL PLUS
REFRESH-INTERVAL;VALUE=DURATION:PT1H
X-Robots-Tag:noindex
X-PUBLISHED-TTL:PT1H
BEGIN:VTIMEZONE
TZID:Europe/Berlin
BEGIN:DAYLIGHT
TZOFFSETFROM:+0100
TZOFFSETTO:+0200
TZNAME:CEST
DTSTART:20240331T010000
END:DAYLIGHT
BEGIN:STANDARD
TZOFFSETFROM:+0200
TZOFFSETTO:+0100
TZNAME:CET
DTSTART:20241027T010000
END:STANDARD
BEGIN:DAYLIGHT
TZOFFSETFROM:+0100
TZOFFSETTO:+0200
TZNAME:CEST
DTSTART:20250330T010000
END:DAYLIGHT
BEGIN:STANDARD
TZOFFSETFROM:+0200
TZOFFSETTO:+0100
TZNAME:CET
DTSTART:20251026T010000
END:STANDARD
BEGIN:DAYLIGHT
TZOFFSETFROM:+0100
TZOFFSETTO:+0200
TZNAME:CEST
DTSTART:20260329T010000
END:DAYLIGHT
BEGIN:STANDARD
TZOFFSETFROM:+0200
TZOFFSETTO:+0100
TZNAME:CET
DTSTART:20261025T010000
END:STANDARD
END:VTIMEZONE
BEGIN:VEVENT
DTSTART;TZID=Europe/Berlin:20250129T150000
DTEND;TZID=Europe/Berlin:20250129T180000
DTSTAMP:20260420T023951
CREATED:20240923T075530Z
LAST-MODIFIED:20250415T093319Z
UID:3952-1738162800-1738173600@www.cirqualityowl.de
SUMMARY:Bauwende OWL I Keine Angst es sind NUR Sekundärbaustoffe
DESCRIPTION:Anmeldung beendet\nBAUWENDE OWL ist eine Themenreihe von CirQualityOWL plus. Wir bringen gemeinsam mit Ihnen Expertise und Know-How zusammen und erarbeiten Hand in Hand wirtschaftlich relevante Instrumente für eine praxisorientierte Bauwende. \nHiermit laden wir Sie zu unserer ersten Veranstaltung ein: \nBAUWENDE OWL I Keine Angst es sind NUR Sekundärbaustoffe \nEinsatz von Sekundärbaustoffen – Vertrauen und Wissen für die Anwendung unter heutigen Rahmenbedingungen \nMittwoch 29.01.2025 | 15:00 – 18:00 Uhr | Kreishaus Detmold | Kreistagssitzungssaal \nWir alle lieben unsere Alltagsroutinen. Sie ermöglichen uns die reibungslose Umsetzung komplexer Abläufe – ohne großes Nachdenken „fast wie im Schlaf“. Das angenehme Gefühl\, das sich einstellt\, wenn erforderliche Prozesse in bekanntem Maße ineinandergreifen und gewünschte Ergebnisse kalkulierbar scheinen\, kennt jede(r) von uns. \nZeitdruck oder Mangel an aktuellen Kenntnissen schafft beim Planen von Vorhaben schnell Unbehagen. Es fehlt die Zeit für ein Neudenken von Möglichkeiten\, die Erweiterung von Handlungsspielräumen oder auch das Integrieren von noch Unausgereiftem. Neben dem erforderlichen Wissen brauchen wir Vertrauen in die neuen Möglichkeiten um bestehende Entscheidungsspielräume zu erweitern. \nZiel der Veranstaltung ist es\, kommunale und alle weiteren Akteure aus Bauplanung\, Technischem Gebäudemanagement\, Beschaffung und Kämmerei mit konkretem und fachlichem Wissen zu bereichern. Ebenfalls werden wichtige Fragen beantwortet\, wie z.B. „Warum gibt es keine Probleme beim Einsatz von Sekundärbaustoffen?“ und „Wie kann\, ganz anwenderleicht\, der Einsatz vermehrt werden?“ \nAgenda \n14:30 Uhr Registrierung \n15:00 Uhr Begrüßung \n15:15 Uhr Impulsvorträge \n„Der Weg zu Sekundärrohstoffen im Betonbereich“ Michael Gahlmann\, Dipl. Bauingenieur\, Betonwerk Büscher \n„Güteüberwachung und Zertifizierung von Sekundärrohstoffen – Herausforderungen bei der Identifizierung von Materialeigenschaften“ Thomas Fischer\, Geschäftsführer Qualitätssicherung Sekundärstoffe GmbH | QUBA\n16:00 Uhr Pause \n16:15 Uhr Impulsvorträge \n„Verwendung von mineralischen Ersatzbaustoffen als Produkt“\, Barbara Grunewald\, M.Sc.\, Geschäftsführerin Technik\, Verband der Bau- und Rohstoffindustrie e. V. \n„Pflichten und Möglichkeiten der öffentlichen Hand in Ausschreibung und Beschaffung“ Christian Gross\, Leitung der Zentralen Vergabestelle Kreis Lippe\n17:00 Uhr Thementische \nAusschreibungen – sprechen hilft!\nMaterialeigenschaften – so bin ich!\nPraxis – das geht schon heute!\n17:30 Uhr Plenumsgespräch und Ausblick \n18:00 Uhr Start für persönliches Netzwerken und Imbiss \n18:30 Uhr Ende der Veranstaltung \nFreuen Sie sich auf eine interessante Veranstaltung und einen anregenden Austausch!
URL:https://www.cirqualityowl.de/event/allianz-treffen-bauwende-zum-zirkulaeren-denken-und-wirtschaften/
LOCATION:Kreishaus Detmold | Kreistagssitzungssaal\, Felix-Fechenbach-Straße 5\, Detmold\, 32756
ATTACH;FMTTYPE=image/png:https://www.cirqualityowl.de/wp-content/uploads/2024/09/CQOWL-plus_Icon-AP4-orange-4_3-Beitraege.png
END:VEVENT
END:VCALENDAR