BEGIN:VCALENDAR
VERSION:2.0
PRODID:-//CIRQUALITY OWL PLUS - ECPv6.15.18//NONSGML v1.0//EN
CALSCALE:GREGORIAN
METHOD:PUBLISH
X-WR-CALNAME:CIRQUALITY OWL PLUS
X-ORIGINAL-URL:https://www.cirqualityowl.de
X-WR-CALDESC:Veranstaltungen für CIRQUALITY OWL PLUS
REFRESH-INTERVAL;VALUE=DURATION:PT1H
X-Robots-Tag:noindex
X-PUBLISHED-TTL:PT1H
BEGIN:VTIMEZONE
TZID:Europe/Berlin
BEGIN:DAYLIGHT
TZOFFSETFROM:+0100
TZOFFSETTO:+0200
TZNAME:CEST
DTSTART:20240331T010000
END:DAYLIGHT
BEGIN:STANDARD
TZOFFSETFROM:+0200
TZOFFSETTO:+0100
TZNAME:CET
DTSTART:20241027T010000
END:STANDARD
BEGIN:DAYLIGHT
TZOFFSETFROM:+0100
TZOFFSETTO:+0200
TZNAME:CEST
DTSTART:20250330T010000
END:DAYLIGHT
BEGIN:STANDARD
TZOFFSETFROM:+0200
TZOFFSETTO:+0100
TZNAME:CET
DTSTART:20251026T010000
END:STANDARD
BEGIN:DAYLIGHT
TZOFFSETFROM:+0100
TZOFFSETTO:+0200
TZNAME:CEST
DTSTART:20260329T010000
END:DAYLIGHT
BEGIN:STANDARD
TZOFFSETFROM:+0200
TZOFFSETTO:+0100
TZNAME:CET
DTSTART:20261025T010000
END:STANDARD
END:VTIMEZONE
BEGIN:VEVENT
DTSTART;TZID=Europe/Berlin:20250326T140000
DTEND;TZID=Europe/Berlin:20250326T160000
DTSTAMP:20260420T022419
CREATED:20240923T075751Z
LAST-MODIFIED:20250415T093246Z
UID:3958-1742997600-1743004800@www.cirqualityowl.de
SUMMARY:Bauwende OWL I Zirkulär statt linear ‒ gemeinsam statt gegeneinander
DESCRIPTION:Anmeldung beendet\n\n\n\n\nHiermit laden wir Sie zu unserer dritten Veranstaltung aus der Themenreihe BAUWENDE OWL ein. \nZIRKULÄR STATT LINEAR – gemeinsam statt gegeneinander \nDer Planungsprozess im zirkulären Bauen \nMittwoch 26.3.2025 | 15:00 – 17:00 Uhr | KreativInstitut.OWL \nWir verstehen\, das Wissen um zirkuläres Bauen ist da. Es muss „nur“ in ein GEMEINSAM gebracht werden. Ob realisierte Leuchtturmprojekte\, innovative Materialien\, digitale Start-Ups\, geförderte Modellprojekte oder Abläufe in Kommunen und von Seiten großer Baustoffhersteller ‒ alle haben das Ziel zirkuläres Bauen\, Denken\, Entwerfen und Planen in die Praxis zu bringen. \nArchitekt:innen und Planer:innen nehmen durch Ihre Arbeit im Rahmen ihrer Bauprojekte großen Einfluss auf die Reduktion von CO2-Emissionen. Dieses enorme Potenzial gilt es gemeinsam mit allen am Bauprozess Beteiligten zu heben und in die Praxis umzusetzen. \nWir werfen einen Blick in die aktuelle Forschung. Denn Prozesskultur im Planungsablauf hat viele praxisnahe und anwendungsleichte Perspektiven. Anhand von Praxis-Beispielen und Analysen erfahren wir mehr über die Potenziale des zirkulären Bauens entlang der Wertschöpfungskette Bau. Dann wird es konkret: Welche Potenziale bringt jede Teilnehmerin und jeder Teilnehmer mit? Welche Möglichkeiten gibt es in Ostwestfalen-Lippe? Wie können sie in die Praxis umgesetzt werden? \nProgramm \n15:00 Uhr   Begrüßung\nCarolin Pieper\, Energie Impuls OWL \n15:15 Uhr   Impuls 1\nPotenziale zirkulärer Prozesskultur: Von der Theorie in die Praxis\nLisa Pusch\, TH OWL \n15:30 Uhr   Impuls 2\nFörderung der Kreislaufwirtschaft beim Rückbau öffentlicher Gebäude\nAnika Steinkuhl\, TH OWL \n15:45 Uhr   Workshop und Austausch\nProzesskultur und Potenziale für zirkulären Bauen in Ostwestfalen-Lippe\nmoderiert durch das Team von BAUWENDE OWL \n\nChancen und Potenziale in OWL entdecken und entwickeln\nEigene Kompetenzen einbringen und schärfen\nKollaboration und Zusammenarbeit initiieren und stärken\n\n16:45 Uhr   Ausblick \nFreuen Sie sich auf eine interessante Veranstaltung und einen anregenden Austausch! \nBAUWENDE OWL ist eine Themenreihe von CirQualityOWL plus. Wir bringen gemeinsam mit Ihnen Expertise und Know-How zusammen und erarbeiten Hand in Hand wirtschaftlich relevante Instrumente für eine praxisorientierte Bauwende. \nDas Vorhaben CirQualityOWL plus wird aus Mitteln des Europäischen Fonds für regionale Entwicklung (EFRE) sowie vom Land NRW gefördert.
URL:https://www.cirqualityowl.de/event/allianz-treffen-bauwende-zum-zirkulaeren-denken-und-wirtschaften-3/
ATTACH;FMTTYPE=image/png:https://www.cirqualityowl.de/wp-content/uploads/2024/09/CQOWL-plus_Icon-AP4-orange-4_3-Beitraege.png
END:VEVENT
END:VCALENDAR