BEGIN:VCALENDAR
VERSION:2.0
PRODID:-//CIRQUALITY OWL PLUS - ECPv6.15.18//NONSGML v1.0//EN
CALSCALE:GREGORIAN
METHOD:PUBLISH
X-WR-CALNAME:CIRQUALITY OWL PLUS
X-ORIGINAL-URL:https://www.cirqualityowl.de
X-WR-CALDESC:Veranstaltungen für CIRQUALITY OWL PLUS
REFRESH-INTERVAL;VALUE=DURATION:PT1H
X-Robots-Tag:noindex
X-PUBLISHED-TTL:PT1H
BEGIN:VTIMEZONE
TZID:Europe/Berlin
BEGIN:DAYLIGHT
TZOFFSETFROM:+0100
TZOFFSETTO:+0200
TZNAME:CEST
DTSTART:20190331T010000
END:DAYLIGHT
BEGIN:STANDARD
TZOFFSETFROM:+0200
TZOFFSETTO:+0100
TZNAME:CET
DTSTART:20191027T010000
END:STANDARD
BEGIN:DAYLIGHT
TZOFFSETFROM:+0100
TZOFFSETTO:+0200
TZNAME:CEST
DTSTART:20200329T010000
END:DAYLIGHT
BEGIN:STANDARD
TZOFFSETFROM:+0200
TZOFFSETTO:+0100
TZNAME:CET
DTSTART:20201025T010000
END:STANDARD
BEGIN:DAYLIGHT
TZOFFSETFROM:+0100
TZOFFSETTO:+0200
TZNAME:CEST
DTSTART:20210328T010000
END:DAYLIGHT
BEGIN:STANDARD
TZOFFSETFROM:+0200
TZOFFSETTO:+0100
TZNAME:CET
DTSTART:20211031T010000
END:STANDARD
END:VTIMEZONE
BEGIN:VEVENT
DTSTART;TZID=Europe/Berlin:20200831T160000
DTEND;TZID=Europe/Berlin:20200831T190000
DTSTAMP:20260422T174205
CREATED:20200819T130018Z
LAST-MODIFIED:20200819T130018Z
UID:963-1598889600-1598900400@www.cirqualityowl.de
SUMMARY:18. (DIGITALER) FACHKONGRESS: 'EFFIZIENTER UND INNOVATIVER MASCHINENBAU'
DESCRIPTION:Live Eröffnungsshow am 31.08.2020\, 16 Uhr\nGEMEINSAM SIND WIR STÄRKER \nIn der aktuellen Situation\, wird das deutlich wie nie. Die Summe unserer Erfahrungen hilft uns\, die nächsten Schritte in eine neue digitale Zukunft zu tun. \nIm Netzwerk können wir Herausforderungen annehmen und zukunftsweisende Lösungen entwickeln\, die alleine nicht denkbar und umsetzbar wären. \nDas ist das Motto unserer Eröffnung des #Fachkongress2020: Gemeinsam arbeiten wir an einem neuen Wirtschaftswunder.
URL:https://www.cirqualityowl.de/event/18-digitaler-fachkongress-effizienter-und-innovativer-maschinenbau/
ATTACH;FMTTYPE=image/jpeg:https://www.cirqualityowl.de/wp-content/uploads/2020/08/Fachkongress_owl-mb-600x400-1.jpg
END:VEVENT
END:VCALENDAR